BEGIN:VCALENDAR
VERSION:2.0
PRODID:-//Fullerton Observer - ECPv6.15.20//NONSGML v1.0//EN
CALSCALE:GREGORIAN
METHOD:PUBLISH
X-WR-CALNAME:Fullerton Observer
X-ORIGINAL-URL:https://fullertonobserver.com
X-WR-CALDESC:Events for Fullerton Observer
REFRESH-INTERVAL;VALUE=DURATION:PT1H
X-Robots-Tag:noindex
X-PUBLISHED-TTL:PT1H
BEGIN:VTIMEZONE
TZID:America/Los_Angeles
BEGIN:DAYLIGHT
TZOFFSETFROM:-0800
TZOFFSETTO:-0700
TZNAME:PDT
DTSTART:20250309T100000
END:DAYLIGHT
BEGIN:STANDARD
TZOFFSETFROM:-0700
TZOFFSETTO:-0800
TZNAME:PST
DTSTART:20251102T090000
END:STANDARD
BEGIN:DAYLIGHT
TZOFFSETFROM:-0800
TZOFFSETTO:-0700
TZNAME:PDT
DTSTART:20260308T100000
END:DAYLIGHT
BEGIN:STANDARD
TZOFFSETFROM:-0700
TZOFFSETTO:-0800
TZNAME:PST
DTSTART:20261101T090000
END:STANDARD
BEGIN:DAYLIGHT
TZOFFSETFROM:-0800
TZOFFSETTO:-0700
TZNAME:PDT
DTSTART:20270314T100000
END:DAYLIGHT
BEGIN:STANDARD
TZOFFSETFROM:-0700
TZOFFSETTO:-0800
TZNAME:PST
DTSTART:20271107T090000
END:STANDARD
END:VTIMEZONE
BEGIN:VEVENT
DTSTART;TZID=America/Los_Angeles:20260430T100000
DTEND;TZID=America/Los_Angeles:20260523T200000
DTSTAMP:20260422T095753
CREATED:20260413T225103Z
LAST-MODIFIED:20260413T225103Z
UID:184898-1777543200-1779566400@fullertonobserver.com
SUMMARY:Open House at the Newly Built Yorba Linda Temple of The Church of Jesus Christ of Latter-day Saints
DESCRIPTION:Temples are sacred buildings designed to help God’s children feel close to Him and His Son\, Jesus Christ. Once the temple is dedicated\, the entrance is reserved for members of the Church. This open house is a unique opportunity for everyone to tour this sacred house of the Lord and enjoy the beautiful grounds. \nEvent Information\n\nWhen\nThursday April 30–Saturday\, May 23\, 2026\nMonday–Friday 10:00 a.m.–8:00 p.m.\nSaturday 9:00 a.m.–8:00 p.m.\n(excluding Sundays and May 2\, 2026 before 2:00 p.m.) \nMake a Reservation \n(Admission is completely free\, but due to limited parking\, reservations are strongly recommended.) \nAddress\n17130 Bastanchury Rd\nYorba Linda\, CA 92886 \nGet Directions
URL:https://fullertonobserver.com/event/open-house-at-the-newly-built-yorba-linda-temple-of-the-church-of-jesus-christ-of-latter-day-saints/
CATEGORIES:Architecture
END:VEVENT
END:VCALENDAR