BEGIN:VCALENDAR
VERSION:2.0
PRODID:-//Fullerton Observer - ECPv6.15.20//NONSGML v1.0//EN
CALSCALE:GREGORIAN
METHOD:PUBLISH
X-WR-CALNAME:Fullerton Observer
X-ORIGINAL-URL:https://fullertonobserver.com
X-WR-CALDESC:Events for Fullerton Observer
REFRESH-INTERVAL;VALUE=DURATION:PT1H
X-Robots-Tag:noindex
X-PUBLISHED-TTL:PT1H
BEGIN:VTIMEZONE
TZID:America/Los_Angeles
BEGIN:DAYLIGHT
TZOFFSETFROM:-0800
TZOFFSETTO:-0700
TZNAME:PDT
DTSTART:20250309T100000
END:DAYLIGHT
BEGIN:STANDARD
TZOFFSETFROM:-0700
TZOFFSETTO:-0800
TZNAME:PST
DTSTART:20251102T090000
END:STANDARD
BEGIN:DAYLIGHT
TZOFFSETFROM:-0800
TZOFFSETTO:-0700
TZNAME:PDT
DTSTART:20260308T100000
END:DAYLIGHT
BEGIN:STANDARD
TZOFFSETFROM:-0700
TZOFFSETTO:-0800
TZNAME:PST
DTSTART:20261101T090000
END:STANDARD
BEGIN:DAYLIGHT
TZOFFSETFROM:-0800
TZOFFSETTO:-0700
TZNAME:PDT
DTSTART:20270314T100000
END:DAYLIGHT
BEGIN:STANDARD
TZOFFSETFROM:-0700
TZOFFSETTO:-0800
TZNAME:PST
DTSTART:20271107T090000
END:STANDARD
END:VTIMEZONE
BEGIN:VEVENT
DTSTART;TZID=America/Los_Angeles:20260517T120000
DTEND;TZID=America/Los_Angeles:20260517T140000
DTSTAMP:20260419T211528
CREATED:20260415T205317Z
LAST-MODIFIED:20260415T205318Z
UID:184991-1779019200-1779026400@fullertonobserver.com
SUMMARY:2026 Annual Fulllerton CROP Hunger Walk
DESCRIPTION:No one in this world should be hungry. That’s why the CROP Hunger Walk is more than just a gathering of people in a place. We’re part of a movement\, taking steps and raising funds together to provide meals for those in our own community who need them – and supporting programs that create greater food security in communities all around the world. \nWe will meet at the Fullerton Downtown Plaza to begin the walk at Noon. \nCONTACT: Carolyn Griffith Howard\n714-323-5768\nschool2beach@yahoo.com
URL:https://fullertonobserver.com/event/2026-annual-fulllerton-crop-hunger-walk/
CATEGORIES:Walk/Run
ATTACH;FMTTYPE=image/png:https://fullertonobserver.com/wp-content/uploads/2026/04/Snip20260415_142.png
END:VEVENT
END:VCALENDAR